BEGIN:VCALENDAR
VERSION:2.0
PRODID:-//wp-events-plugin.com//7.2.3.1//EN
TZID:Europe/Berlin
X-WR-TIMEZONE:Europe/Berlin
BEGIN:VEVENT
UID:5-4261@frauenbund-passau-heining.de
DTSTART;TZID=Europe/Berlin:20260306T170000
DTEND;TZID=Europe/Berlin:20260306T190000
DTSTAMP:20260120T191319Z
URL:https://frauenbund-passau-heining.de/termine/weltgebetstag-nigeria-kom
 m-bringt-eure-last/
SUMMARY:Weltgebetstag Nigeria - "Komm! Bringt eure Last"
DESCRIPTION:Weltgebetstag Nigeria - "Komm! Bringt eure Last"\n\n17:00 Uhr K
 irche in Heining
CATEGORIES:Frauenbund Passau-Heining
END:VEVENT
BEGIN:VTIMEZONE
TZID:Europe/Berlin
X-LIC-LOCATION:Europe/Berlin
BEGIN:STANDARD
DTSTART:20251026T020000
TZOFFSETFROM:+0200
TZOFFSETTO:+0100
TZNAME:CET
END:STANDARD
END:VTIMEZONE
END:VCALENDAR