BEGIN:VCALENDAR
VERSION:2.0
PRODID:-//wp-events-plugin.com//7.2.3.1//EN
TZID:Europe/Berlin
X-WR-TIMEZONE:Europe/Berlin
BEGIN:VEVENT
UID:5-4301@frauenbund-passau-heining.de
DTSTART;TZID=Europe/Berlin:20260423T170000
DTEND;TZID=Europe/Berlin:20260423T190000
DTSTAMP:20260423T121034Z
URL:https://frauenbund-passau-heining.de/termine/vortrag-von-richard-schaf
 fner-ueber-passau-und-heining/
SUMMARY:Vortrag von Richard Schaffner über Passau und Heining
DESCRIPTION:17:00 Uhr\n\nin der kommunalen Medienzentrale Passau\n\nAm Gold
 enen Steig 1 (Ilzstadtfriedhof)\n\nWir bilden Fahrgemeinschaften\, Abfahrt
  16:15 Uhr am Pfarrzentrum\n\nAnmeldung bis 16.04.2026 bei Petra E.
CATEGORIES:Frauenbund Passau-Heining
END:VEVENT
BEGIN:VTIMEZONE
TZID:Europe/Berlin
X-LIC-LOCATION:Europe/Berlin
BEGIN:DAYLIGHT
DTSTART:20260329T030000
TZOFFSETFROM:+0100
TZOFFSETTO:+0200
TZNAME:CEST
END:DAYLIGHT
END:VTIMEZONE
END:VCALENDAR