BEGIN:VCALENDAR
VERSION:2.0
PRODID:-//wp-events-plugin.com//7.2.3.1//EN
TZID:Europe/Berlin
X-WR-TIMEZONE:Europe/Berlin
BEGIN:VEVENT
UID:5-4190@frauenbund-passau-heining.de
DTSTART;TZID=Europe/Berlin:20251213T180000
DTEND;TZID=Europe/Berlin:20251213T190000
DTSTAMP:20251013T161041Z
URL:https://frauenbund-passau-heining.de/termine/vom-kommen-des-lichts-ein
 e-vorweihnachtliche-stunde/
SUMMARY:"Vom Kommen des Lichts" - eine vorweihnachtliche Stunde
DESCRIPTION:zum Zuhören und Mitsingen in der Heilig Geist Kirche\n\nAnmeld
 ung bis 10.10.2025 bei Doris
CATEGORIES:Frauenbund Passau-Heining
END:VEVENT
BEGIN:VTIMEZONE
TZID:Europe/Berlin
X-LIC-LOCATION:Europe/Berlin
BEGIN:STANDARD
DTSTART:20251026T020000
TZOFFSETFROM:+0200
TZOFFSETTO:+0100
TZNAME:CET
END:STANDARD
END:VTIMEZONE
END:VCALENDAR