BEGIN:VCALENDAR
VERSION:2.0
PRODID:-//wp-events-plugin.com//7.2.3.1//EN
TZID:Europe/Berlin
X-WR-TIMEZONE:Europe/Berlin
BEGIN:VEVENT
UID:5-4238@frauenbund-passau-heining.de
DTSTART;TZID=Europe/Berlin:20260120T140000
DTEND;TZID=Europe/Berlin:20260120T170000
DTSTAMP:20260120T185939Z
URL:https://frauenbund-passau-heining.de/termine/stadtspaziergang/
SUMMARY:"rostfrei" Stadtspaziergang
DESCRIPTION:Treffpunkt zum traditionellen Stadtspaziergang ist um 14:00 Uhr
  am ZOB\n\nSpaziergang zur Innpromenade\, von dort zur Ortspitze und dann 
 ins "Anton".\n\n&nbsp\;\n\nBitte bei Doris anmelden wegen der Tischreservi
 erung.
CATEGORIES:Frauenbund Passau-Heining
END:VEVENT
BEGIN:VTIMEZONE
TZID:Europe/Berlin
X-LIC-LOCATION:Europe/Berlin
BEGIN:STANDARD
DTSTART:20251026T020000
TZOFFSETFROM:+0200
TZOFFSETTO:+0100
TZNAME:CET
END:STANDARD
END:VTIMEZONE
END:VCALENDAR