BEGIN:VCALENDAR
VERSION:2.0
PRODID:-//wp-events-plugin.com//7.2.3.1//EN
TZID:Europe/Berlin
X-WR-TIMEZONE:Europe/Berlin
BEGIN:VEVENT
UID:5-4189@frauenbund-passau-heining.de
DTSTART;TZID=Europe/Berlin:20251030T150000
DTEND;TZID=Europe/Berlin:20251030T150000
DTSTAMP:20251013T155652Z
URL:https://frauenbund-passau-heining.de/termine/route-66-swing-and-more-r
 edoute/
SUMMARY:Route 66 Swing and more - Redoute
DESCRIPTION:Jazz/Swing/Bossanova\n\nEintritt 5 €\n\nohne Anmeldung\, einf
 ach zur Redoute kommen\n\nBeginn 15:00 Uhr
CATEGORIES:Frauenbund Passau-Heining
END:VEVENT
BEGIN:VTIMEZONE
TZID:Europe/Berlin
X-LIC-LOCATION:Europe/Berlin
BEGIN:STANDARD
DTSTART:20251026T020000
TZOFFSETFROM:+0200
TZOFFSETTO:+0100
TZNAME:CET
END:STANDARD
END:VTIMEZONE
END:VCALENDAR