BEGIN:VCALENDAR
VERSION:2.0
PRODID:-//wp-events-plugin.com//7.2.3.1//EN
TZID:Europe/Berlin
X-WR-TIMEZONE:Europe/Berlin
BEGIN:VEVENT
UID:5-4011@frauenbund-passau-heining.de
DTSTART;TZID=Europe/Berlin:20250227T000000
DTEND;TZID=Europe/Berlin:20250227T000000
DTSTAMP:20241210T081137Z
URL:https://frauenbund-passau-heining.de/termine/rostfrei-unsinniger-donne
 rstag-faschingsgala-im-stadttheater/
SUMMARY:"rostfrei" unsinniger Donnerstag - Faschingsgala im Stadttheater
DESCRIPTION:Anmeldung bei Doris
CATEGORIES:Frauenbund Passau-Heining
END:VEVENT
BEGIN:VTIMEZONE
TZID:Europe/Berlin
X-LIC-LOCATION:Europe/Berlin
BEGIN:STANDARD
DTSTART:20241027T020000
TZOFFSETFROM:+0200
TZOFFSETTO:+0100
TZNAME:CET
END:STANDARD
END:VTIMEZONE
END:VCALENDAR