BEGIN:VCALENDAR
VERSION:2.0
PRODID:-//wp-events-plugin.com//7.2.3.1//EN
TZID:Europe/Berlin
X-WR-TIMEZONE:Europe/Berlin
BEGIN:VEVENT
UID:5-3994@frauenbund-passau-heining.de
DTSTART;TZID=Europe/Berlin:20250116T000000
DTEND;TZID=Europe/Berlin:20250116T000000
DTSTAMP:20241210T075147Z
URL:https://frauenbund-passau-heining.de/termine/rostfrei-stadtspaziergang
 /
SUMMARY:"rostfrei" Stadtspaziergang
DESCRIPTION:Bschütt\, Hals\, Einkehr im "Das Oberhaus"
CATEGORIES:Frauenbund Passau-Heining
END:VEVENT
BEGIN:VTIMEZONE
TZID:Europe/Berlin
X-LIC-LOCATION:Europe/Berlin
BEGIN:STANDARD
DTSTART:20241027T020000
TZOFFSETFROM:+0200
TZOFFSETTO:+0100
TZNAME:CET
END:STANDARD
END:VTIMEZONE
END:VCALENDAR