BEGIN:VCALENDAR
VERSION:2.0
PRODID:-//wp-events-plugin.com//7.2.3.1//EN
TZID:Europe/Berlin
X-WR-TIMEZONE:Europe/Berlin
BEGIN:VEVENT
UID:5-4306@frauenbund-passau-heining.de
DTSTART;TZID=Europe/Berlin:20260527T000000
DTEND;TZID=Europe/Berlin:20260527T000000
DTSTAMP:20260423T121746Z
URL:https://frauenbund-passau-heining.de/termine/rostfrei-oma-enkelkinder-
 ausflug-zum-flughafen-muenchen/
SUMMARY:"rostfrei" Oma/Enkelkinder-Ausflug zum Flughafen München
DESCRIPTION:„rostfrei“ Oma / Enkelkinder Ausflug zum Münchner Flughafe
 n – mit Besichtigungstour im Flughafen\, Besucherpark\, Besucherhügel\,
  Lokal Tante Ju\n\nAnmeldung bei Doris F.
CATEGORIES:Frauenbund Passau-Heining
END:VEVENT
BEGIN:VTIMEZONE
TZID:Europe/Berlin
X-LIC-LOCATION:Europe/Berlin
BEGIN:DAYLIGHT
DTSTART:20260329T030000
TZOFFSETFROM:+0100
TZOFFSETTO:+0200
TZNAME:CEST
END:DAYLIGHT
END:VTIMEZONE
END:VCALENDAR