BEGIN:VCALENDAR
VERSION:2.0
PRODID:-//wp-events-plugin.com//7.2.3.1//EN
TZID:Europe/Berlin
X-WR-TIMEZONE:Europe/Berlin
BEGIN:VEVENT
UID:5-4144@frauenbund-passau-heining.de
DTSTART;TZID=Europe/Berlin:20250713T093000
DTEND;TZID=Europe/Berlin:20250713T104500
DTSTAMP:20250518T185237Z
URL:https://frauenbund-passau-heining.de/termine/rostfrei-besuch-katholisc
 her-festgottesdienst/
SUMMARY:"rostfrei" Besuch katholischer Festgottesdienst
DESCRIPTION:Hochamt im Rahmen der Europäischen Wochen Passau\n\nEnjott Sch
 neider Schwabenkinder-Messe\n\nBeginn 9:30 Uhr im Dom St. Stephan
CATEGORIES:Frauenbund Passau-Heining
LOCATION:Dom zu Passau\, Domplatz\, Passau\, Bayern\, 94032\, Deutschland
X-APPLE-STRUCTURED-LOCATION;VALUE=URI;X-ADDRESS=Domplatz\, Passau\, Bayern\
 , 94032\, Deutschland;X-APPLE-RADIUS=100;X-TITLE=Dom zu Passau:geo:0,0
END:VEVENT
BEGIN:VTIMEZONE
TZID:Europe/Berlin
X-LIC-LOCATION:Europe/Berlin
BEGIN:DAYLIGHT
DTSTART:20250330T030000
TZOFFSETFROM:+0100
TZOFFSETTO:+0200
TZNAME:CEST
END:DAYLIGHT
END:VTIMEZONE
END:VCALENDAR