BEGIN:VCALENDAR
VERSION:2.0
PRODID:-//wp-events-plugin.com//7.2.3.1//EN
TZID:Europe/Berlin
X-WR-TIMEZONE:Europe/Berlin
BEGIN:VEVENT
UID:5-4191@frauenbund-passau-heining.de
DTSTART;TZID=Europe/Berlin:20260101T170000
DTEND;TZID=Europe/Berlin:20260101T170000
DTSTAMP:20251013T161024Z
URL:https://frauenbund-passau-heining.de/termine/neujahrskonzert-des-passa
 uer-konzertvereins-im-grossen-rathaussaal/
SUMMARY:Neujahrskonzert des Passauer Konzertvereins im Großen Rathaussaal
DESCRIPTION:Karten zu 30 € oder 20 €\n\nAnmeldung bis 10.10.2025 bei Do
 ris
CATEGORIES:Frauenbund Passau-Heining
END:VEVENT
BEGIN:VTIMEZONE
TZID:Europe/Berlin
X-LIC-LOCATION:Europe/Berlin
BEGIN:STANDARD
DTSTART:20251026T020000
TZOFFSETFROM:+0200
TZOFFSETTO:+0100
TZNAME:CET
END:STANDARD
END:VTIMEZONE
END:VCALENDAR