BEGIN:VCALENDAR
VERSION:2.0
PRODID:-//wp-events-plugin.com//7.2.3.1//EN
TZID:Europe/Berlin
X-WR-TIMEZONE:Europe/Berlin
BEGIN:VEVENT
UID:5-4248@frauenbund-passau-heining.de
DTSTART;TZID=Europe/Berlin:20260219T093000
DTEND;TZID=Europe/Berlin:20260219T110000
DTSTAMP:20260120T190321Z
URL:https://frauenbund-passau-heining.de/termine/morgenkurs-mit-atem-koerp
 er-und-stimmuebungen-1-von-3/
SUMMARY:Morgenkurs mit Atem-\, Körper- und Stimmübungen (1 von 3)
DESCRIPTION:Morgenkurs mit Atem-\, Körper- und Stimmübungen mit Atemthera
 peutin Martha Sammer\n\n3 Vormittage 9:30 - 11:00 Uhr im Pfarrsaal\n\nKost
 en 30€\, Anmeldung bei Doris
CATEGORIES:Frauenbund Passau-Heining
LOCATION:\, \, 
GEO:48.5835635;13.393404799999985
X-APPLE-STRUCTURED-LOCATION;VALUE=URI;X-ADDRESS=\, ;X-APPLE-RADIUS=100;X-TI
 TLE=:geo:48.5835635,13.393404799999985
END:VEVENT
BEGIN:VTIMEZONE
TZID:Europe/Berlin
X-LIC-LOCATION:Europe/Berlin
BEGIN:STANDARD
DTSTART:20251026T020000
TZOFFSETFROM:+0200
TZOFFSETTO:+0100
TZNAME:CET
END:STANDARD
END:VTIMEZONE
END:VCALENDAR