BEGIN:VCALENDAR
VERSION:2.0
PRODID:-//wp-events-plugin.com//7.2.3.1//EN
TZID:Europe/Berlin
X-WR-TIMEZONE:Europe/Berlin
BEGIN:VEVENT
UID:5-4020@frauenbund-passau-heining.de
DTSTART;TZID=Europe/Berlin:20250505T180000
DTEND;TZID=Europe/Berlin:20250505T190000
DTSTAMP:20241210T082416Z
URL:https://frauenbund-passau-heining.de/termine/maiandacht-in-heiligenbru
 nn-3/
SUMMARY:Maiandacht in Heiligenbrunn
DESCRIPTION:Abmarsch 17:00 Uhr
CATEGORIES:Frauenbund Passau-Heining
END:VEVENT
BEGIN:VTIMEZONE
TZID:Europe/Berlin
X-LIC-LOCATION:Europe/Berlin
BEGIN:DAYLIGHT
DTSTART:20250330T030000
TZOFFSETFROM:+0100
TZOFFSETTO:+0200
TZNAME:CEST
END:DAYLIGHT
END:VTIMEZONE
END:VCALENDAR