BEGIN:VCALENDAR
VERSION:2.0
PRODID:-//wp-events-plugin.com//7.2.3.1//EN
TZID:Europe/Berlin
X-WR-TIMEZONE:Europe/Berlin
BEGIN:VEVENT
UID:5-4258@frauenbund-passau-heining.de
DTSTART;TZID=Europe/Berlin:20260325T090000
DTEND;TZID=Europe/Berlin:20260325T100000
DTSTAMP:20260120T190941Z
URL:https://frauenbund-passau-heining.de/termine/kleines-fruehstueck-im-pf
 arrsaal-3/
SUMMARY:Kleines Frühstück im Pfarrsaal
DESCRIPTION:Kleines Frühstück im Pfarrsaal ab 9:00 Uhr\n\nim Anschluss an
  den 8:30 Uhr-Gottesdienst
CATEGORIES:Frauenbund Passau-Heining
LOCATION:\, \, 
GEO:48.5835635;13.393404799999985
X-APPLE-STRUCTURED-LOCATION;VALUE=URI;X-ADDRESS=\, ;X-APPLE-RADIUS=100;X-TI
 TLE=:geo:48.5835635,13.393404799999985
END:VEVENT
BEGIN:VTIMEZONE
TZID:Europe/Berlin
X-LIC-LOCATION:Europe/Berlin
BEGIN:STANDARD
DTSTART:20251026T020000
TZOFFSETFROM:+0200
TZOFFSETTO:+0100
TZNAME:CET
END:STANDARD
END:VTIMEZONE
END:VCALENDAR