BEGIN:VCALENDAR
VERSION:2.0
PRODID:-//wp-events-plugin.com//7.2.3.1//EN
TZID:Europe/Berlin
X-WR-TIMEZONE:Europe/Berlin
BEGIN:VEVENT
UID:5-4237@frauenbund-passau-heining.de
DTSTART;TZID=Europe/Berlin:20260119T193000
DTEND;TZID=Europe/Berlin:20260119T210000
DTSTAMP:20260119T155821Z
URL:https://frauenbund-passau-heining.de/termine/jahreshauptversammlung-mi
 t-neuwahl/
SUMMARY:Jahreshauptversammlung mit Neuwahl
DESCRIPTION:Beginn um 19:30 Uhr im Pfarrsaal Heining
CATEGORIES:Frauenbund Passau-Heining
LOCATION:\, \, 
GEO:48.5835635;13.393404799999985
X-APPLE-STRUCTURED-LOCATION;VALUE=URI;X-ADDRESS=\, ;X-APPLE-RADIUS=100;X-TI
 TLE=:geo:48.5835635,13.393404799999985
END:VEVENT
BEGIN:VTIMEZONE
TZID:Europe/Berlin
X-LIC-LOCATION:Europe/Berlin
BEGIN:STANDARD
DTSTART:20251026T020000
TZOFFSETFROM:+0200
TZOFFSETTO:+0100
TZNAME:CET
END:STANDARD
END:VTIMEZONE
END:VCALENDAR