BEGIN:VCALENDAR
VERSION:2.0
PRODID:-//wp-events-plugin.com//7.2.3.1//EN
TZID:Europe/Berlin
X-WR-TIMEZONE:Europe/Berlin
BEGIN:VEVENT
UID:5-4252@frauenbund-passau-heining.de
DTSTART;TZID=Europe/Berlin:20260224T070000
DTEND;TZID=Europe/Berlin:20260224T080000
DTSTAMP:20260120T190718Z
URL:https://frauenbund-passau-heining.de/termine/fruehschicht-hier-faengt-
 die-zukunft-an-kamerun-votivkirche/
SUMMARY:Frühschicht "Hier fängt die Zukunft an" (Kamerun) - Votivkirche
DESCRIPTION:Frühschicht "Hier fängt die Zukunft an" (Kamerun)\n\n7:00 Uhr
  Votivkirche
CATEGORIES:Frauenbund Passau-Heining
END:VEVENT
BEGIN:VTIMEZONE
TZID:Europe/Berlin
X-LIC-LOCATION:Europe/Berlin
BEGIN:STANDARD
DTSTART:20251026T020000
TZOFFSETFROM:+0200
TZOFFSETTO:+0100
TZNAME:CET
END:STANDARD
END:VTIMEZONE
END:VCALENDAR