BEGIN:VCALENDAR
VERSION:2.0
PRODID:-//wp-events-plugin.com//7.2.3.1//EN
TZID:Europe/Berlin
X-WR-TIMEZONE:Europe/Berlin
BEGIN:VEVENT
UID:5-4014@frauenbund-passau-heining.de
DTSTART;TZID=Europe/Berlin:20250316T000000
DTEND;TZID=Europe/Berlin:20250316T000000
DTSTAMP:20241210T081532Z
URL:https://frauenbund-passau-heining.de/termine/fastenessen-6/
SUMMARY:Fastenessen
DESCRIPTION:im Pfarrsaal
CATEGORIES:Frauenbund Passau-Heining
LOCATION:\, \, 
GEO:48.5835635;13.393404799999985
X-APPLE-STRUCTURED-LOCATION;VALUE=URI;X-ADDRESS=\, ;X-APPLE-RADIUS=100;X-TI
 TLE=:geo:48.5835635,13.393404799999985
END:VEVENT
BEGIN:VTIMEZONE
TZID:Europe/Berlin
X-LIC-LOCATION:Europe/Berlin
BEGIN:STANDARD
DTSTART:20241027T020000
TZOFFSETFROM:+0200
TZOFFSETTO:+0100
TZNAME:CET
END:STANDARD
END:VTIMEZONE
END:VCALENDAR