BEGIN:VCALENDAR
VERSION:2.0
PRODID:-//wp-events-plugin.com//7.2.3.1//EN
TZID:Europe/Berlin
X-WR-TIMEZONE:Europe/Berlin
BEGIN:VEVENT
UID:5-4305@frauenbund-passau-heining.de
DTSTART;TZID=Europe/Berlin:20260526T000000
DTEND;TZID=Europe/Berlin:20260526T000000
DTSTAMP:20260423T121641Z
URL:https://frauenbund-passau-heining.de/termine/dekanats-maiandacht-bei-m
 aria-im-walde-stadtpark-hacklberg/
SUMMARY:Dekanats-Maiandacht bei Maria im Walde/Stadtpark Hacklberg
DESCRIPTION:Bei schlechtem Wetter in der Kirche St. Korona. Einkehr im Tenn
 isstüberl
CATEGORIES:Frauenbund Passau-Heining
END:VEVENT
BEGIN:VTIMEZONE
TZID:Europe/Berlin
X-LIC-LOCATION:Europe/Berlin
BEGIN:DAYLIGHT
DTSTART:20260329T030000
TZOFFSETFROM:+0100
TZOFFSETTO:+0200
TZNAME:CEST
END:DAYLIGHT
END:VTIMEZONE
END:VCALENDAR