BEGIN:VCALENDAR
VERSION:2.0
PRODID:-//wp-events-plugin.com//7.2.3.1//EN
TZID:Europe/Berlin
X-WR-TIMEZONE:Europe/Berlin
BEGIN:VEVENT
UID:5-4160@frauenbund-passau-heining.de
DTSTART;TZID=Europe/Berlin:20251014T000000
DTEND;TZID=Europe/Berlin:20251014T000000
DTSTAMP:20251013T155226Z
URL:https://frauenbund-passau-heining.de/termine/boiotro-anschl-einkehr-im
 -kaffeewerk/
SUMMARY:Kastell Boiotro anschl. Einkehr im Kaffeewerk
DESCRIPTION:13:30 Uhr Treffen am PZ\n\nEintritt: 5 €\, Senioren: 4 €\n\
 nAnmeldung bis 6.10.2025\n\n&nbsp\;
CATEGORIES:Frauenbund Passau-Heining
END:VEVENT
BEGIN:VTIMEZONE
TZID:Europe/Berlin
X-LIC-LOCATION:Europe/Berlin
BEGIN:DAYLIGHT
DTSTART:20250330T030000
TZOFFSETFROM:+0100
TZOFFSETTO:+0200
TZNAME:CEST
END:DAYLIGHT
END:VTIMEZONE
END:VCALENDAR