BEGIN:VCALENDAR
VERSION:2.0
PRODID:-//wp-events-plugin.com//7.2.3.1//EN
TZID:Europe/Berlin
X-WR-TIMEZONE:Europe/Berlin
BEGIN:VEVENT
UID:5-4163@frauenbund-passau-heining.de
DTSTART;TZID=Europe/Berlin:20251122T093000
DTEND;TZID=Europe/Berlin:20251122T160000
DTSTAMP:20251013T160119Z
URL:https://frauenbund-passau-heining.de/termine/besinnungstag-4/
SUMMARY:Besinnungstag
DESCRIPTION:9:30 - 16:oo Uhr im Kloster Neustift bei Ortenburg\n\nKosten: 2
 3 €\n\nmit Tina Weihe (Günther)\n\nAnmeldung bis 14.11.2025 bei Theresi
 a\n\n&nbsp\;
CATEGORIES:Frauenbund Passau-Heining
END:VEVENT
BEGIN:VTIMEZONE
TZID:Europe/Berlin
X-LIC-LOCATION:Europe/Berlin
BEGIN:STANDARD
DTSTART:20251026T020000
TZOFFSETFROM:+0200
TZOFFSETTO:+0100
TZNAME:CET
END:STANDARD
END:VTIMEZONE
END:VCALENDAR