BEGIN:VCALENDAR
VERSION:2.0
PRODID:-//wp-events-plugin.com//7.2.3.1//EN
TZID:Europe/Berlin
X-WR-TIMEZONE:Europe/Berlin
BEGIN:VEVENT
UID:5-4310@frauenbund-passau-heining.de
DTSTART;TZID=Europe/Berlin:20260620T140000
DTEND;TZID=Europe/Berlin:20260620T170000
DTSTAMP:20260423T122411Z
URL:https://frauenbund-passau-heining.de/termine/ausflug-nach-sammarei-zus
 ammen-mit-maennerkreis/
SUMMARY:Ausflug nach Sammarei zusammen mit Männerkreis
DESCRIPTION:14:00 Uhr\n\nWir beginnen mit einer Andacht von Pfarrer Thomas 
 Brandl.\n\nDanach Führung in der Kirche mit Mesnerin Anita Schneider und 
 Elmar Grimbs in der Kapelle mit den Votivbildern\n\nEinkehr in Ortenburg\n
 \nFahrgemeinschaften: Abfahrt am Pfarrzentrum um 13:15 Uhr\n\nAnmeldung bi
 s 10.06.2026 bei Petra
CATEGORIES:Frauenbund Passau-Heining
END:VEVENT
BEGIN:VTIMEZONE
TZID:Europe/Berlin
X-LIC-LOCATION:Europe/Berlin
BEGIN:DAYLIGHT
DTSTART:20260329T030000
TZOFFSETFROM:+0100
TZOFFSETTO:+0200
TZNAME:CEST
END:DAYLIGHT
END:VTIMEZONE
END:VCALENDAR